BEGIN:VCALENDAR
VERSION:2.0
PRODID:-//UK ACM SIGCSE - ECPv5.6.0//NONSGML v1.0//EN
CALSCALE:GREGORIAN
METHOD:PUBLISH
X-WR-CALNAME:UK ACM SIGCSE
X-ORIGINAL-URL:https://uki-sigcse.acm.org
X-WR-CALDESC:Events for UK ACM SIGCSE
BEGIN:VTIMEZONE
TZID:UTC
BEGIN:STANDARD
TZOFFSETFROM:+0000
TZOFFSETTO:+0000
TZNAME:UTC
DTSTART:20260101T000000
END:STANDARD
END:VTIMEZONE
BEGIN:VEVENT
DTSTART;TZID=UTC:20260108T080000
DTEND;TZID=UTC:20260108T170000
DTSTAMP:20260422T084235
CREATED:20250902T223757Z
LAST-MODIFIED:20250908T162412Z
UID:686-1767859200-1767891600@uki-sigcse.acm.org
SUMMARY:Computing Education Practice (CEP) 2026 at Durham University
DESCRIPTION:CEP 2026 is the tenth conference in computing education practice. CEP provides an opportunity to discuss with like-minded people the challenges and opportunities that face us\, and how these are changing. As well as a platform for presenting\, exploring and sharing ideas and new approaches there will also be opportunities for focused discussion on the topics raised
URL:https://uki-sigcse.acm.org/event/cep-2026-durham/
CATEGORIES:Conference
END:VEVENT
END:VCALENDAR