BEGIN:VCALENDAR
VERSION:2.0
PRODID:-//UK ACM SIGCSE - ECPv5.6.0//NONSGML v1.0//EN
CALSCALE:GREGORIAN
METHOD:PUBLISH
X-WR-CALNAME:UK ACM SIGCSE
X-ORIGINAL-URL:https://uki-sigcse.acm.org
X-WR-CALDESC:Events for UK ACM SIGCSE
BEGIN:VTIMEZONE
TZID:UTC
BEGIN:STANDARD
TZOFFSETFROM:+0000
TZOFFSETTO:+0000
TZNAME:UTC
DTSTART:20250101T000000
END:STANDARD
END:VTIMEZONE
BEGIN:VEVENT
DTSTART;TZID=UTC:20251201T140000
DTEND;TZID=UTC:20251201T150000
DTSTAMP:20260424T222029
CREATED:20250902T224147Z
LAST-MODIFIED:20250908T160916Z
UID:691-1764597600-1764601200@uki-sigcse.acm.org
SUMMARY:SIGCSE Journal Club December\, The Role of Generative AI in Software Student CollaborAItion
DESCRIPTION:We’ll be joined by juholeinonen.com talking about his ITiCSE 2025 position paper on The Role of Generative AI in Software Student CollaborAItion DOI:10.1145/3724363.3729040
URL:https://uki-sigcse.acm.org/event/journal-club-56/
CATEGORIES:ACM SIGCSE Journal Club
END:VEVENT
END:VCALENDAR