BEGIN:VCALENDAR
VERSION:2.0
PRODID:-//UK ACM SIGCSE - ECPv5.6.0//NONSGML v1.0//EN
CALSCALE:GREGORIAN
METHOD:PUBLISH
X-WR-CALNAME:UK ACM SIGCSE
X-ORIGINAL-URL:https://uki-sigcse.acm.org
X-WR-CALDESC:Events for UK ACM SIGCSE
BEGIN:VTIMEZONE
TZID:UTC
BEGIN:STANDARD
TZOFFSETFROM:+0000
TZOFFSETTO:+0000
TZNAME:UTC
DTSTART:20250101T000000
END:STANDARD
END:VTIMEZONE
BEGIN:VEVENT
DTSTART;TZID=UTC:20251202T170000
DTEND;TZID=UTC:20251202T183000
DTSTAMP:20260420T122626
CREATED:20251006T123601Z
LAST-MODIFIED:20251006T123601Z
UID:1130-1764694800-1764700200@uki-sigcse.acm.org
SUMMARY:RPF Seminar: How to measure AI literacy
DESCRIPTION:In this seminar\, Jesús Moreno-León will explore methods for measuring and evaluating artificial intelligence literacy. He will present an assessment instrument that has been successfully implemented in several research studies\, involving thousands of primary and secondary education students across Spain\, discussing both its strengths and limitations. \nAdditionally\, he will share recent progress in developing a new instrument influenced by the SEAME framework\, which groups learning objectives and resources related to teaching AI and machine learning based on whether they focus on Social and Ethical aspects (SE)\, Applications (A)\, Models (M)\, or Engines (E — how AI works). \nJesús Moreno-León is a computer science researcher and professor at the University of Seville. His career spans diverse educational landscapes\, including leadership roles at the Spanish Ministry of Education and pedagogic management of Fundación Telefónica’s 42 Campus network across Spain. He is also co-director of Programamos\, a non-profit organisation fostering computer science education from early ages that has won multiple awards.
URL:https://uki-sigcse.acm.org/event/rpf-3/
CATEGORIES:Raspberry Pi seminar
ORGANIZER;CN="Jane%20Waite":MAILTO:j.l.waite@qmul.ac.uk
END:VEVENT
END:VCALENDAR